BEGIN:VCALENDAR
PRODID:brasil.gov.agenda
VERSION:1.0
BEGIN:VEVENT
DTSTART:20150108T120000Z
DTEND:20150108T121000Z
DCREATED:20150107T230351Z
UID:Compromisso-8e7bbd2957e44cefa099d1443caa4218
SEQUENCE:0
LAST-MODIFIED:20170328T204819Z
SUMMARY:Luciano Coutinho
LOCATION:Palácio do Planalto
PRIORITY:3
TRANSP:0
END:VEVENT
END:VCALENDAR
