BEGIN:VCALENDAR
PRODID:brasil.gov.agenda
VERSION:1.0
BEGIN:VEVENT
DTSTART:20150112T180000Z
DTEND:20150112T181000Z
DCREATED:20150112T213041Z
UID:Compromisso-74577be91ef44aa489f90aa5ed7ac282
SEQUENCE:0
LAST-MODIFIED:20170328T204820Z
SUMMARY:Eduardo Braga
LOCATION:Palácio do Planalto
PRIORITY:3
TRANSP:0
END:VEVENT
END:VCALENDAR
