BEGIN:VCALENDAR
PRODID:brasil.gov.agenda
VERSION:1.0
BEGIN:VEVENT
DTSTART:20150112T130000Z
DTEND:20150112T131000Z
DCREATED:20150109T220820Z
UID:Compromisso-ced1273a3c7347b49b2efc4ce9af4d0b
SEQUENCE:0
LAST-MODIFIED:20170328T204820Z
SUMMARY:Gilberto Kassab
LOCATION:Palácio do Planalto
PRIORITY:3
TRANSP:0
END:VEVENT
END:VCALENDAR
