BEGIN:VCALENDAR
PRODID:brasil.gov.agenda
VERSION:1.0
BEGIN:VEVENT
DTSTART:20150112T194500Z
DTEND:20150112T195500Z
DCREATED:20150109T220922Z
UID:Compromisso-05fa041d9f694a73a6c38124c8e1d21b
SEQUENCE:0
LAST-MODIFIED:20170328T204820Z
SUMMARY:Joaquim Levy
LOCATION:Palácio do Planalto
PRIORITY:3
TRANSP:0
END:VEVENT
END:VCALENDAR
