BEGIN:VCALENDAR
PRODID:brasil.gov.agenda
VERSION:1.0
BEGIN:VEVENT
DTSTART:20150113T190000Z
DTEND:20150113T191000Z
DCREATED:20150113T220308Z
UID:Compromisso-af35a52e04a144299e5eea2b9f0a8eb3
SEQUENCE:0
LAST-MODIFIED:20170328T204821Z
SUMMARY:Helder Barbalho
LOCATION:Palácio do Planalto
PRIORITY:3
TRANSP:0
END:VEVENT
END:VCALENDAR
