BEGIN:VCALENDAR
PRODID:brasil.gov.agenda
VERSION:1.0
BEGIN:VEVENT
DTSTART:20150113T133000Z
DTEND:20150113T134000Z
DCREATED:20150112T215951Z
UID:Compromisso-a8a852c8ad784fa4849f6dc3843cd3d3
SEQUENCE:0
LAST-MODIFIED:20170328T204821Z
SUMMARY:Joaquim Levy
LOCATION:Palácio do Planalto
PRIORITY:3
TRANSP:0
END:VEVENT
END:VCALENDAR
