BEGIN:VCALENDAR
PRODID:brasil.gov.agenda
VERSION:1.0
BEGIN:VEVENT
DTSTART:20150113T120000Z
DTEND:20150113T121000Z
DCREATED:20150112T215856Z
UID:Compromisso-0d73db761fb94b9caf7fce7ef6e3ffac
SEQUENCE:0
LAST-MODIFIED:20170328T204821Z
SUMMARY:Nelson Barbosa
LOCATION:Palácio do Planalto
PRIORITY:3
TRANSP:0
END:VEVENT
END:VCALENDAR
