BEGIN:VCALENDAR
PRODID:brasil.gov.agenda
VERSION:1.0
BEGIN:VEVENT
DTSTART:20150113T200000Z
DTEND:20150113T201000Z
DCREATED:20150113T220430Z
UID:Compromisso-20c9800107bb4732b34be45f2f252c4f
SEQUENCE:0
LAST-MODIFIED:20170328T204821Z
SUMMARY:Robinson Faria
LOCATION:Palácio do Planalto
PRIORITY:3
TRANSP:0
END:VEVENT
END:VCALENDAR
