BEGIN:VCALENDAR
PRODID:brasil.gov.agenda
VERSION:1.0
BEGIN:VEVENT
DTSTART:20150113T173000Z
DTEND:20150113T174000Z
DCREATED:20150112T224157Z
UID:Compromisso-aaac727161c34dc1acab87c4877d4201
SEQUENCE:0
LAST-MODIFIED:20170328T204821Z
SUMMARY:Valdir Simão
LOCATION:Palácio do Planalto
PRIORITY:3
TRANSP:0
END:VEVENT
END:VCALENDAR
