BEGIN:VCALENDAR
PRODID:brasil.gov.agenda
VERSION:1.0
BEGIN:VEVENT
DTSTART:20150114T120000Z
DTEND:20150114T121000Z
DCREATED:20150113T224158Z
UID:Compromisso-d528d3923e194b1189c5c99d32857434
SEQUENCE:0
LAST-MODIFIED:20170328T204821Z
SUMMARY:Arthur Chioro
LOCATION:Palácio do Planalto
PRIORITY:3
TRANSP:0
END:VEVENT
END:VCALENDAR
