BEGIN:VCALENDAR
PRODID:brasil.gov.agenda
VERSION:1.0
BEGIN:VEVENT
DTSTART:20150114T200000Z
DTEND:20150114T201000Z
DCREATED:20150113T224303Z
UID:Compromisso-fc4bcee2454c48bd92ea31cf2e5e487e
SEQUENCE:0
LAST-MODIFIED:20170328T204821Z
SUMMARY:Luciano Coutinho
LOCATION:Palácio do Planalto
PRIORITY:3
TRANSP:0
END:VEVENT
END:VCALENDAR
