BEGIN:VCALENDAR
PRODID:brasil.gov.agenda
VERSION:1.0
BEGIN:VEVENT
DTSTART:20150115T203000Z
DTEND:20150115T204000Z
DCREATED:20150115T220021Z
UID:Compromisso-53cd7e684bbc46cb816eba954f0c02be
SEQUENCE:0
LAST-MODIFIED:20170328T204822Z
SUMMARY:Eleonora Menicucci de Oliveira
LOCATION:Palácio do Planalto
PRIORITY:3
TRANSP:0
END:VEVENT
END:VCALENDAR
