BEGIN:VCALENDAR
PRODID:brasil.gov.agenda
VERSION:1.0
BEGIN:VEVENT
DTSTART:20150115T170000Z
DTEND:20150115T171000Z
DCREATED:20150114T225408Z
UID:Compromisso-c7eadcf2d0744b20a6db457d63c29a93
SEQUENCE:0
LAST-MODIFIED:20170328T204822Z
SUMMARY:Eliseu Padilha
LOCATION:Palácio do Planalto
PRIORITY:3
TRANSP:0
END:VEVENT
END:VCALENDAR
