BEGIN:VCALENDAR
PRODID:brasil.gov.agenda
VERSION:1.0
BEGIN:VEVENT
DTSTART:20150115T193000Z
DTEND:20150115T194000Z
DCREATED:20150115T215825Z
UID:Compromisso-7341aa3074ed425da4c57b0919bc7460
SEQUENCE:0
LAST-MODIFIED:20170328T204822Z
SUMMARY:Ideli Salvatti
LOCATION:Palácio do Planalto
PRIORITY:3
TRANSP:0
END:VEVENT
END:VCALENDAR
