BEGIN:VCALENDAR
PRODID:brasil.gov.agenda
VERSION:1.0
BEGIN:VEVENT
DTSTART:20150115T180000Z
DTEND:20150115T020000Z
DCREATED:20150115T163816Z
UID:Compromisso-45e336700242472e9aba495c6e219f68
SEQUENCE:0
LAST-MODIFIED:20170328T204822Z
SUMMARY:Tereza Campello
LOCATION:Palácio do Planalto
PRIORITY:3
TRANSP:0
END:VEVENT
END:VCALENDAR
