BEGIN:VCALENDAR
PRODID:brasil.gov.agenda
VERSION:1.0
BEGIN:VEVENT
DTSTART:20150116T170000Z
DTEND:20150116T171000Z
DCREATED:20150115T225211Z
UID:Compromisso-8adc38b5612b42a3bc669c2ffa5d1448
SEQUENCE:0
LAST-MODIFIED:20170328T204822Z
SUMMARY:Antonio Carlos Rodrigues
LOCATION:Palácio da Alvorada
PRIORITY:3
TRANSP:0
END:VEVENT
END:VCALENDAR
