BEGIN:VCALENDAR
PRODID:brasil.gov.agenda
VERSION:1.0
BEGIN:VEVENT
DTSTART:20150116T180000Z
DTEND:20150116T181000Z
DCREATED:20150115T225047Z
UID:Compromisso-e6996362cf4c437fb1380684c7bee790
SEQUENCE:0
LAST-MODIFIED:20170328T204822Z
SUMMARY:Joaquim Levy
LOCATION:Palácio da Alvorada
PRIORITY:3
TRANSP:0
END:VEVENT
END:VCALENDAR
