BEGIN:VCALENDAR
PRODID:brasil.gov.agenda
VERSION:1.0
BEGIN:VEVENT
DTSTART:20150119T123000Z
DTEND:20150119T111000Z
DCREATED:20150116T220109Z
UID:Compromisso-4f61c38ab92e4c388d757e3c26f23950
SEQUENCE:0
LAST-MODIFIED:20170328T204823Z
SUMMARY:Aloizio Mercadante
LOCATION:Palácio do Planalto
PRIORITY:3
TRANSP:0
END:VEVENT
END:VCALENDAR
