BEGIN:VCALENDAR
PRODID:brasil.gov.agenda
VERSION:1.0
BEGIN:VEVENT
DTSTART:20150120T183000Z
DTEND:20150120T184000Z
DCREATED:20150119T222630Z
UID:Compromisso-8fd08381ec534a558bcf07b2020150b9
SEQUENCE:0
LAST-MODIFIED:20170328T204823Z
SUMMARY:Cid Gomes
LOCATION:Palácio do Planalto
PRIORITY:3
TRANSP:0
END:VEVENT
END:VCALENDAR
