BEGIN:VCALENDAR
PRODID:brasil.gov.agenda
VERSION:1.0
BEGIN:VEVENT
DTSTART:20150120T123000Z
DTEND:20150120T124000Z
DCREATED:20150119T222327Z
UID:Compromisso-4198cb3ae2fa4581b326ae2698ddec5d
SEQUENCE:0
LAST-MODIFIED:20170328T204823Z
SUMMARY:Kátia Abreu
LOCATION:Palácio do Planalto
PRIORITY:3
TRANSP:0
END:VEVENT
END:VCALENDAR
