BEGIN:VCALENDAR
PRODID:brasil.gov.agenda
VERSION:1.0
BEGIN:VEVENT
DTSTART:20150120T170000Z
DTEND:20150120T171000Z
DCREATED:20150119T222539Z
UID:Compromisso-4773296319394d4eb6081674d6ab8cb6
SEQUENCE:0
LAST-MODIFIED:20170328T204823Z
SUMMARY:Patrus Ananias
LOCATION:Palácio do Planalto
PRIORITY:3
TRANSP:0
END:VEVENT
END:VCALENDAR
