BEGIN:VCALENDAR
PRODID:brasil.gov.agenda
VERSION:1.0
BEGIN:VEVENT
DTSTART:20150120T140000Z
DTEND:20150120T141000Z
DCREATED:20150119T222428Z
UID:Compromisso-83aa52428af7427b9d9a1d168cb20bfe
SEQUENCE:0
LAST-MODIFIED:20170328T204823Z
SUMMARY:Raimundo Colombo
LOCATION:Palácio do Planalto
PRIORITY:3
TRANSP:0
END:VEVENT
END:VCALENDAR
