BEGIN:VCALENDAR
PRODID:brasil.gov.agenda
VERSION:1.0
BEGIN:VEVENT
DTSTART:20150121T130000Z
DTEND:20150121T131000Z
DCREATED:20150120T233930Z
UID:Compromisso-64ac9ddb50c2433191d4d9769704a65a
SEQUENCE:0
LAST-MODIFIED:20170328T204823Z
SUMMARY:Aldo Rebelo
LOCATION:Palácio do Planalto
PRIORITY:3
TRANSP:0
END:VEVENT
END:VCALENDAR
