BEGIN:VCALENDAR
PRODID:brasil.gov.agenda
VERSION:1.0
BEGIN:VEVENT
DTSTART:20150121T170000Z
DTEND:20150121T020000Z
DCREATED:20150121T165019Z
UID:Compromisso-d16e992f6bd346bc92f76298d1f57895
SEQUENCE:0
LAST-MODIFIED:20170328T204824Z
SUMMARY:Aloizio Mercadante
PRIORITY:3
TRANSP:0
END:VEVENT
END:VCALENDAR
