BEGIN:VCALENDAR
PRODID:brasil.gov.agenda
VERSION:1.0
BEGIN:VEVENT
DTSTART:20150121T190000Z
DTEND:20150121T171000Z
DCREATED:20150120T234048Z
UID:Compromisso-c9f154e81e8046989023e7135fce3eac
SEQUENCE:0
LAST-MODIFIED:20170328T204823Z
SUMMARY:Armando Monteiro Neto
LOCATION:Palácio do Planalto
PRIORITY:3
TRANSP:0
END:VEVENT
END:VCALENDAR
