BEGIN:VCALENDAR
PRODID:brasil.gov.agenda
VERSION:1.0
BEGIN:VEVENT
DTSTART:20150121T200000Z
DTEND:20150121T181000Z
DCREATED:20150120T234213Z
UID:Compromisso-6d9a829770094f9ba8abde3640b955af
SEQUENCE:0
LAST-MODIFIED:20170328T204824Z
SUMMARY:Gilberto Occhi
LOCATION:Palácio do Planalto
PRIORITY:3
TRANSP:0
END:VEVENT
END:VCALENDAR
