BEGIN:VCALENDAR
PRODID:brasil.gov.agenda
VERSION:1.0
BEGIN:VEVENT
DTSTART:20150121T113000Z
DTEND:20150121T114000Z
DCREATED:20150120T233831Z
UID:Compromisso-4258e1773cf947d5a599db11b37e9ff2
SEQUENCE:0
LAST-MODIFIED:20170328T204823Z
SUMMARY:Juca Ferreira
LOCATION:Palácio do Planalto
PRIORITY:3
TRANSP:0
END:VEVENT
END:VCALENDAR
