BEGIN:VCALENDAR
PRODID:brasil.gov.agenda
VERSION:1.0
BEGIN:VEVENT
DTSTART:20150121T140000Z
DTEND:20150121T020000Z
DCREATED:20150121T164729Z
UID:Compromisso-a1657150b3364b9393739261779d319d
SEQUENCE:0
LAST-MODIFIED:20170328T204824Z
SUMMARY:Nilma Lino Gomes
PRIORITY:3
TRANSP:0
END:VEVENT
END:VCALENDAR
