BEGIN:VCALENDAR
PRODID:brasil.gov.agenda
VERSION:1.0
BEGIN:VEVENT
DTSTART:20150122T113500Z
DTEND:20150122T020000Z
DCREATED:20150121T222735Z
UID:Compromisso-7f240e7a4f3f454fb8183761eb926e50
SEQUENCE:0
LAST-MODIFIED:20170328T204824Z
SUMMARY:Cerimônia de posse dos Senhores Evo Morales Ayma e Álvaro García Linera nos cargos de Presidente e Vice-Presidente do Estado Plurinacional da Bolívia
PRIORITY:3
TRANSP:0
END:VEVENT
END:VCALENDAR
