BEGIN:VCALENDAR
PRODID:brasil.gov.agenda
VERSION:1.0
BEGIN:VEVENT
DTSTART:20150122T204500Z
DTEND:20150122T020000Z
DCREATED:20150121T223438Z
UID:Compromisso-930027d051ca453088d156718371d6ee
SEQUENCE:0
LAST-MODIFIED:20170328T204825Z
SUMMARY:Chegada a Brasília
PRIORITY:3
TRANSP:0
END:VEVENT
END:VCALENDAR
