BEGIN:VCALENDAR
PRODID:brasil.gov.agenda
VERSION:1.0
BEGIN:VEVENT
DTSTART:20150122T141500Z
DTEND:20150122T020000Z
DCREATED:20150121T222931Z
UID:Compromisso-5cbad9652af74fc2911f75d40232c9de
SEQUENCE:0
LAST-MODIFIED:20170328T204824Z
SUMMARY:Cumprimento aos Senhores Evo Morales Ayma e Álvaro García Linera\, Presidente e Vice-Presidente do Estado Plurinacional da Bolívia
PRIORITY:3
TRANSP:0
END:VEVENT
END:VCALENDAR
