BEGIN:VCALENDAR
PRODID:brasil.gov.agenda
VERSION:1.0
BEGIN:VEVENT
DTSTART:20150122T144500Z
DTEND:20150122T020000Z
DCREATED:20150121T223156Z
UID:Compromisso-a9dc1645bfc540679ff9bb929c90e2bd
SEQUENCE:0
LAST-MODIFIED:20170328T204824Z
SUMMARY:Foto Oficial
PRIORITY:3
TRANSP:0
END:VEVENT
END:VCALENDAR
