BEGIN:VCALENDAR
PRODID:brasil.gov.agenda
VERSION:1.0
BEGIN:VEVENT
DTSTART:20150122T154500Z
DTEND:20150122T020000Z
DCREATED:20150121T223310Z
UID:Compromisso-b48b48e152b24c4f84aa1d30e917d1e4
SEQUENCE:0
LAST-MODIFIED:20170328T204825Z
SUMMARY:Partida para Brasília
PRIORITY:3
TRANSP:0
END:VEVENT
END:VCALENDAR
