BEGIN:VCALENDAR
PRODID:brasil.gov.agenda
VERSION:1.0
BEGIN:VEVENT
DTSTART:20150122T094500Z
DTEND:20150122T020000Z
DCREATED:20150121T222405Z
UID:Compromisso-2df7af99b43d43559041d29ee3fefeca
SEQUENCE:0
LAST-MODIFIED:20170328T204824Z
SUMMARY:Partida para La Paz
PRIORITY:3
TRANSP:0
END:VEVENT
END:VCALENDAR
