BEGIN:VCALENDAR
PRODID:brasil.gov.agenda
VERSION:1.0
BEGIN:VEVENT
DTSTART:20150123T183000Z
DTEND:20150123T181000Z
DCREATED:20150122T225242Z
UID:Compromisso-70b9f81f1bb64731a7038e417439e3c5
SEQUENCE:0
LAST-MODIFIED:20170328T204825Z
SUMMARY:George Hilton
LOCATION:Palácio do Planalto
PRIORITY:3
TRANSP:0
END:VEVENT
END:VCALENDAR
