BEGIN:VCALENDAR
PRODID:brasil.gov.agenda
VERSION:1.0
BEGIN:VEVENT
DTSTART:20150123T173000Z
DTEND:20150123T171000Z
DCREATED:20150122T225149Z
UID:Compromisso-14feef9250904ad797dabdf1413091d5
SEQUENCE:0
LAST-MODIFIED:20170328T204825Z
SUMMARY:Izabella Teixeira
LOCATION:Palácio do Planalto
PRIORITY:3
TRANSP:0
END:VEVENT
END:VCALENDAR
