BEGIN:VCALENDAR
PRODID:brasil.gov.agenda
VERSION:1.0
BEGIN:VEVENT
DTSTART:20150123T163000Z
DTEND:20150123T134000Z
DCREATED:20150122T224943Z
UID:Compromisso-44cb177899104705907673aaa058c547
SEQUENCE:0
LAST-MODIFIED:20170328T204825Z
SUMMARY:Sheri McCoy
LOCATION:Palácio do Planalto
PRIORITY:3
TRANSP:0
END:VEVENT
END:VCALENDAR
