BEGIN:VCALENDAR
PRODID:brasil.gov.agenda
VERSION:1.0
BEGIN:VEVENT
DTSTART:20150126T180000Z
DTEND:20150126T181000Z
DCREATED:20150126T172705Z
UID:Compromisso-e09f1bc67ee04919b919773f50034d15
SEQUENCE:0
LAST-MODIFIED:20170328T204826Z
SUMMARY:Aloizio Mercadante
LOCATION:Palácio do Planalto
PRIORITY:3
TRANSP:0
END:VEVENT
END:VCALENDAR
