BEGIN:VCALENDAR
PRODID:brasil.gov.agenda
VERSION:1.0
BEGIN:VEVENT
DTSTART:20150126T130000Z
DTEND:20150126T171000Z
DCREATED:20150123T231540Z
UID:Compromisso-59187870685d4af887619a0f83b45c8c
SEQUENCE:0
LAST-MODIFIED:20170328T204825Z
SUMMARY:Edinho Araújo
LOCATION:Palácio do Planalto
PRIORITY:3
TRANSP:0
END:VEVENT
END:VCALENDAR
