BEGIN:VCALENDAR
PRODID:brasil.gov.agenda
VERSION:1.0
BEGIN:VEVENT
DTSTART:20150126T193000Z
DTEND:20150126T194000Z
DCREATED:20150123T231642Z
UID:Compromisso-f1d2e6ba702b456d88448d6f2395203a
SEQUENCE:0
LAST-MODIFIED:20170328T204826Z
SUMMARY:Eduardo Braga
LOCATION:Palácio do Planalto
PRIORITY:3
TRANSP:0
END:VEVENT
END:VCALENDAR
