BEGIN:VCALENDAR
PRODID:brasil.gov.agenda
VERSION:1.0
BEGIN:VEVENT
DTSTART:20150126T120000Z
DTEND:20150126T020000Z
DCREATED:20150126T122338Z
UID:Compromisso-d2faca7ebd374b79adb32306a59dbde6
SEQUENCE:0
LAST-MODIFIED:20170328T204826Z
SUMMARY:Vinícius Nobre Lages
LOCATION:Palácio do Planalto
PRIORITY:3
TRANSP:0
END:VEVENT
END:VCALENDAR
