BEGIN:VCALENDAR
PRODID:brasil.gov.agenda
VERSION:1.0
BEGIN:VEVENT
DTSTART:20150127T180000Z
DTEND:20150127T181000Z
DCREATED:20150126T224012Z
UID:Compromisso-a1f5c39f0dc54f1896e8d71185eb9efc
SEQUENCE:0
LAST-MODIFIED:20170328T204826Z
SUMMARY:Reunião Ministerial
LOCATION:Granja do Torto
PRIORITY:3
TRANSP:0
END:VEVENT
END:VCALENDAR
