BEGIN:VCALENDAR
PRODID:brasil.gov.agenda
VERSION:1.0
BEGIN:VEVENT
DTSTART:20150128T180000Z
DTEND:20150128T181000Z
DCREATED:20150127T223630Z
UID:Compromisso-67e6014d11d045a8929e7fc7508a854f
SEQUENCE:0
LAST-MODIFIED:20170328T204827Z
SUMMARY:2ª Sessão Plenária da III Cúpula da Comunidade de Estados Latino-Americanos e Caribenhos (CELAC)
LOCATION:Centro de Eventos Pedregal\, Sala Plenária
PRIORITY:3
TRANSP:0
END:VEVENT
END:VCALENDAR
