BEGIN:VCALENDAR
PRODID:brasil.gov.agenda
VERSION:1.0
BEGIN:VEVENT
DTSTART:20150128T173000Z
DTEND:20150128T174000Z
DCREATED:20150127T223445Z
UID:Compromisso-1f91a0cff3d347cb909986049162026d
SEQUENCE:0
LAST-MODIFIED:20170328T204826Z
SUMMARY:Chegada a San José
LOCATION:Aeroporto Internacional Juan Santamaría\, Base 2
PRIORITY:3
TRANSP:0
END:VEVENT
END:VCALENDAR
