BEGIN:VCALENDAR
PRODID:brasil.gov.agenda
VERSION:1.0
BEGIN:VEVENT
DTSTART:20150128T190000Z
DTEND:20150128T191000Z
DCREATED:20150127T223802Z
UID:Compromisso-62ebb347f6ef4d7f8b4dc5ec79f97a4e
SEQUENCE:0
LAST-MODIFIED:20170328T204827Z
SUMMARY:Encontro com o Presidente da República da Colômbia\, Juan Manoel Santos
LOCATION:Centro de Eventos Pedregal\, Sala de Bilaterais
PRIORITY:3
TRANSP:0
END:VEVENT
END:VCALENDAR
