BEGIN:VCALENDAR
PRODID:brasil.gov.agenda
VERSION:1.0
BEGIN:VEVENT
DTSTART:20150128T213000Z
DTEND:20150128T214000Z
DCREATED:20150127T223929Z
UID:Compromisso-8c3d65f056b746738fc61e192282377a
SEQUENCE:0
LAST-MODIFIED:20170328T204827Z
SUMMARY:Encontro com o Presidente da República do Panamá\, Juan Carlos Varela
LOCATION:Centro de Eventos Pedregal\, Sala de Bilaterais
PRIORITY:3
TRANSP:0
END:VEVENT
END:VCALENDAR
