BEGIN:VCALENDAR
PRODID:brasil.gov.agenda
VERSION:1.0
BEGIN:VEVENT
DTSTART:20150128T113000Z
DTEND:20150128T114000Z
DCREATED:20150127T223020Z
UID:Compromisso-b7f4c8c701ec4754a7079a13fe0787a9
SEQUENCE:0
LAST-MODIFIED:20170328T204826Z
SUMMARY:Fernando Pimentel
LOCATION:Palácio do Planalto
PRIORITY:3
TRANSP:0
END:VEVENT
END:VCALENDAR
