BEGIN:VCALENDAR
PRODID:brasil.gov.agenda
VERSION:1.0
BEGIN:VEVENT
DTSTART:20150128T220000Z
DTEND:20150128T221000Z
DCREATED:20150127T224125Z
UID:Compromisso-f276f572955a43ec909bedc091435d8c
SEQUENCE:0
LAST-MODIFIED:20170328T204827Z
SUMMARY:Jantar em homenagem aos Chefes de Estado e de Governo da CELAC\, oferecido pelo Presidente da República da Costa Rica\, Luis Guillermo Solis Rivera
LOCATION:Centro de Eventos Pedregal\, La Casona
PRIORITY:3
TRANSP:0
END:VEVENT
END:VCALENDAR
