BEGIN:VCALENDAR
PRODID:brasil.gov.agenda
VERSION:1.0
BEGIN:VEVENT
DTSTART:20150128T124500Z
DTEND:20150128T125500Z
DCREATED:20150127T223133Z
UID:Compromisso-d145cf7f6cc940e9b3c5c10335122e3a
SEQUENCE:0
LAST-MODIFIED:20170328T204826Z
SUMMARY:Luiz Fernando Pezão
LOCATION:Palácio do Planalto
PRIORITY:3
TRANSP:0
END:VEVENT
END:VCALENDAR
