BEGIN:VCALENDAR
PRODID:brasil.gov.agenda
VERSION:1.0
BEGIN:VEVENT
DTSTART:20150128T143000Z
DTEND:20150128T144000Z
DCREATED:20150127T223308Z
UID:Compromisso-f4a35aaf590f49eb97a99d74c2cbfb66
SEQUENCE:0
LAST-MODIFIED:20170328T204826Z
SUMMARY:Partida para San José/Costa Rica
LOCATION:Base Aérea de Brasília
PRIORITY:3
TRANSP:0
END:VEVENT
END:VCALENDAR
